Workbook
Name Cantidad_: 'Trabajos '!$H$4:$H$92
Name cliente: Clientes!$B$4:$B$30
Name Clientes: OFFSET([1]Clientes!$B$6,0,0,COUNTA([1]Clientes!$B:$B)-1)
Name Codigos: OFFSET('[1]Productos en Alquiler'!$B$5,0,0,COUNTA('[1]Productos en Alquiler'!$B:$B)-1)
Name Estado: No Comenzado, En proceso, Terminado
Name Estado: No Comenzado, En proceso, Terminado
Name Estado: No Comenzado, En proceso, Terminado
Name estado_trab: 'Trabajos '!$J$4:$J$92
Name Fecha_trab: 'Trabajos '!$B$4:$B$92
Name Frecuencia: [2]Auxiliar!$C$3:$C$8
Name Info_adic: 'Trabajos '!$G$4:$G$92
Name Pedido_N: 'Trabajos '!$E$4:$E$92
Name Saldo_tab_din: 'Estado de cobranzas'!$E$4:$E$7
Name tipo_trabajo: 'Tipo de Trabajos'!$B$4:$B$29
Name Tipos: [2]Auxiliar!$A$3:$A$4
Name Total_Facturado_tab_din: 'Estado de cobranzas'!$D$4:$D$7
Name trabajos_: 'Trabajos '!$B$4:$Q$92

Sheet Instrucciones
C3: Instrucciones de Uso
C4: Completar
C6: 1.- En la hoja "Clientes" se listan los clientes con sus datos.
C7: 2.- En la hoja "Tipos de Trabajos" se enumeran los tipos de trabajos que se hacen y una descripción adicional (no obligatoria). Esta hoja alimenta los resultados de otras hojas, por eso se hace necesario que registre los datos de manera precisa.
C9: 3.- En la hoja "Trabajos" ingrese los siguientes datos donde correspondan:
C10: a) Ingrese la fecha de la factura en la columna B.
C11: b) Ingrese los número de factura en la columna C.
C12: c) Elija el nombre del cliente en la columna D.
C13: d) Ingrese el número de pedido en la columna E de manera correlativa.
C14: e) En la columna F, seleccione de la lista desplegable el tipo de trabajo solicitado por el cliente.
C15: f) Ingrese en la columna G la información adicional que considere necesaria especificar.
C16: g) Ingrese la cantidad de producto que compra el cliente en la columna H.
... C41: Para eso se debe posicionarse sobre la tabla dinámica, oprimir botón derecho del mouse y elegir actualizar.

Sheet Clientes
B3: Cliente | C3: CUIT | D3: Domicilio | E3: Localidad | F3: Teléfono | G3: Correo electrónico
B4: DiMar | C4: 30-111-222 | D4: Aristede 341 | E4: CABA | F4: 555-5512
B5: Victoria | C5: 25-120-181 | D5: Washington 788 | E5: Lezama | F5: 182-222
B6: Mue-B | C6: 30-111-481 | D6: 56 y 7 | E6: La Plata | F6: 4270718
B7: Logitel | C7: 30-191-222 | D7: Thames | E7: CABA | F7: 519101

Sheet Tipo de Trabajos
B3: Tipo de trabajo
B4: Fundas de almohadón
B5: Individuales
B6: Cortinas de Living
B7: Mantel
B8: Fundas de sillón

Sheet Trabajos 
K2: Pagos
B3: Fecha | C3: Factura Nº | D3: Cliente | E3: Pedido Nº | F3: Tipo de Trabajo | G3: Información adicional | H3: Cantidad | I3: Total Facturado | J3: Estado | K3: Fecha2 | L3: Pago 1 | M3: Fecha3 | N3: Pago 2 | O3: Fecha4 | P3: Pago 3 | Q3: Saldo
B4: 43113 | C4: A101 | D4: DiMar | E4: 1 | F4: Fundas de almohadón | G4: Básicos | H4: 2 | I4: =300*2 -> 600 | J4: Terminado | Q4: =I4-SUM(L4,N4,P4) -> 600
B5: 43114 | C5: A102 | D5: DiMar | E5: 2 | F5: Mantel | G5: Rústico | H5: 1 | I5: 250 | J5: No Empezado | K5: 43114 | L5: 200 | Q5: =I5-SUM(L5,N5,P5) -> 50
B6: 43114 | C6: A103 | D6: Logitel | E6: 3 | F6: Cortinas de Living | G6: BlackOut | H6: 1 | I6: 1500 | J6: En Proceso | K6: 43115 | L6: 1300 | M6: 43116 | N6: 200 | Q6: =I6-SUM(L6,N6,P6) -> 0
B7: 43115 | C7: A104 | D7: Mue-B | E7: 4 | F7: Individuales | G7: Básico | H7: 2 | I7: 100 | J7: No Empezado | Q7: =I7-SUM(L7,N7,P7) -> 100
B8: 43116 | C8: A105 | D8: DiMar | E8: 5 | F8: Individuales | G8: Rústico | H8: 2 | I8: 200 | J8: Terminado | Q8: =I8-SUM(L8,N8,P8) -> 200
Q9: =I9-SUM(L9,N9,P9) -> 0
Q10: =I10-SUM(L10,N10,P10) -> 0
Q11: =I11-SUM(L11,N11,P11) -> 0
Q12: =I12-SUM(L12,N12,P12) -> 0
Q13: =I13-SUM(L13,N13,P13) -> 0
Q14: =I14-SUM(L14,N14,P14) -> 0
Q15: =I15-SUM(L15,N15,P15) -> 0
Q16: =I16-SUM(L16,N16,P16) -> 0
Q17: =I17-SUM(L17,N17,P17) -> 0
Q18: =I18-SUM(L18,N18,P18) -> 0
Q19: =I19-SUM(L19,N19,P19) -> 0
Q20: =I20-SUM(L20,N20,P20) -> 0
... Q92: =I92-SUM(L92,N92,P92) -> 0

Sheet Estado de trabajos
B3: Mes | C3: Enero | D3: Elegir mes para segmentar
B5: Terminado | C5: =IF($C$3="Enero",COUNTIFS(Fecha_trab,">1/01/2018",Fecha_trab,"<1/02/2018",estado_trab,"Terminado"),IF($C$3="Febrero",COUNTIFS(Fecha_trab,">1/02/2018",Fecha_trab,"<1/03/2018",estado_trab,"Terminado"),IF($C$3="Marzo",COUNTIFS(Fecha_trab,">1/03/2018",Fecha_trab,"<1/04/2018",estado_trab,"Terminado"),IF($C$3="Abril",COUNTIFS(Fecha_trab,">1/04/2018",Fecha_trab,"<1/05/2018",estado_trab,"Terminado"),IF($C$3="Mayo",COUNTIFS(Fecha_trab,">1/05/2018",Fecha_trab,"<1/06/2018",estado_trab,"Terminado"),IF($C$3="Junio",COUNTIFS(Fecha_trab,">1/06/2018",Fecha_trab,"<1/07/2018",estado_trab,"Terminado"),IF($C$3="Julio",COUNTIFS(Fecha_trab,">1/07/2018",Fecha_trab,"<1/08/2018",estado_trab,"Terminado"),IF($C$3="Agosto",COUNTIFS(Fecha_trab,">1/08/2018",Fecha_trab,"<1/09/2018",estado_trab,"Terminado"),IF($C$3="Septiembre",COUNTIFS(Fecha_trab,">1/09/2018",Fecha_trab,"<1/10/2018",estado_trab,"Terminado"),IF($C$3="Octubre",COUNTIFS(Fecha_trab,">1/010/2018",Fecha_trab,"<1/11/2018",estado_trab,"Terminado"),IF($C$3="Noviembre",COUNTIFS(Fecha_trab,">1/11/2018",Fecha_trab,"<1/12/2018",estado_trab,"Terminado"),IF($C$3="Diciembre",COUNTIFS(Fecha_trab,">1/12/2018",Fecha_trab,"<1/01/2019",estado_trab,"Terminado"),"Sigue")))))))))))) -> 2 | D5: =IFERROR(C5/$C$8,"") -> 0.4
B6: En proceso | C6: =IF($C$3="Enero",COUNTIFS(Fecha_trab,">1/01/2018",Fecha_trab,"<1/02/2018",estado_trab,"En Proceso"),IF($C$3="Febrero",COUNTIFS(Fecha_trab,">1/02/2018",Fecha_trab,"<1/03/2018",estado_trab,"En Proceso"),IF($C$3="Marzo",COUNTIFS(Fecha_trab,">1/03/2018",Fecha_trab,"<1/04/2018",estado_trab,"En Proceso"),IF($C$3="Abril",COUNTIFS(Fecha_trab,">1/04/2018",Fecha_trab,"<1/05/2018",estado_trab,"En Proceso"),IF($C$3="Mayo",COUNTIFS(Fecha_trab,">1/05/2018",Fecha_trab,"<1/06/2018",estado_trab,"En Proceso"),IF($C$3="Junio",COUNTIFS(Fecha_trab,">1/06/2018",Fecha_trab,"<1/07/2018",estado_trab,"En Proceso"),IF($C$3="Julio",COUNTIFS(Fecha_trab,">1/07/2018",Fecha_trab,"<1/08/2018",estado_trab,"En Proceso"),IF($C$3="Agosto",COUNTIFS(Fecha_trab,">1/08/2018",Fecha_trab,"<1/09/2018",estado_trab,"En Proceso"),IF($C$3="Septiembre",COUNTIFS(Fecha_trab,">1/09/2018",Fecha_trab,"<1/10/2018",estado_trab,"En Proceso"),IF($C$3="Octubre",COUNTIFS(Fecha_trab,">1/010/2018",Fecha_trab,"<1/11/2018",estado_trab,"En Proceso"),IF($C$3="Noviembre",COUNTIFS(Fecha_trab,">1/11/2018",Fecha_trab,"<1/12/2018",estado_trab,"En Proceso"),IF($C$3="Diciembre",COUNTIFS(Fecha_trab,">1/12/2018",Fecha_trab,"<1/01/2019",estado_trab,"En Proceso"),"Sigue")))))))))))) -> 1 | D6: =IFERROR(C6/$C$8,"") -> 0.2
B7: No Empezado | C7: =IF($C$3="Enero",COUNTIFS(Fecha_trab,">1/01/2018",Fecha_trab,"<1/02/2018",estado_trab,"No Empezado"),IF($C$3="Febrero",COUNTIFS(Fecha_trab,">1/02/2018",Fecha_trab,"<1/03/2018",estado_trab,"No Empezado"),IF($C$3="Marzo",COUNTIFS(Fecha_trab,">1/03/2018",Fecha_trab,"<1/04/2018",estado_trab,"No Empezado"),IF($C$3="Abril",COUNTIFS(Fecha_trab,">1/04/2018",Fecha_trab,"<1/05/2018",estado_trab,"No Empezado"),IF($C$3="Mayo",COUNTIFS(Fecha_trab,">1/05/2018",Fecha_trab,"<1/06/2018",estado_trab,"No Empezado"),IF($C$3="Junio",COUNTIFS(Fecha_trab,">1/06/2018",Fecha_trab,"<1/07/2018",estado_trab,"No Empezado"),IF($C$3="Julio",COUNTIFS(Fecha_trab,">1/07/2018",Fecha_trab,"<1/08/2018",estado_trab,"No Empezado"),IF($C$3="Agosto",COUNTIFS(Fecha_trab,">1/08/2018",Fecha_trab,"<1/09/2018",estado_trab,"No Empezado"),IF($C$3="Septiembre",COUNTIFS(Fecha_trab,">1/09/2018",Fecha_trab,"<1/10/2018",estado_trab,"No Empezado"),IF($C$3="Octubre",COUNTIFS(Fecha_trab,">1/010/2018",Fecha_trab,"<1/11/2018",estado_trab,"No Empezado"),IF($C$3="Noviembre",COUNTIFS(Fecha_trab,">1/11/2018",Fecha_trab,"<1/12/2018",estado_trab,"No Empezado"),IF($C$3="Diciembre",COUNTIFS(Fecha_trab,">1/12/2018",Fecha_trab,"<1/01/2019",estado_trab,"No Empezado"),"Sigue")))))))))))) -> 2 | D7: =IFERROR(C7/$C$8,"") -> 0.4
C8: =SUM(C5:C7) -> 5
B15: Estado de Trabajos
B17: Trabajos en Proceso | H17: Trabajos No Empezados
B18: Pedido Nº | C18: Tipo de Trabajo | D18: Información adicional | E18: Cantidad | F18: Cliente | H18: Pedido Nº | I18: Tipo de Trabajo | J18: Información adicional | K18: Cantidad | L18: Cliente
B19: {=IFERROR(INDEX(Pedido_N,SMALL(IF(estado_trab="En Proceso",ROW(estado_trab)-4),ROW(#REF!)),1),"")} | C19: =IFERROR(VLOOKUP(B19,'Trabajos '!$E$4:$H$92,2,0),"") | D19: =IFERROR(VLOOKUP(B19,'Trabajos '!$E$4:$H$92,3,0),"") | E19: =IFERROR(VLOOKUP(B19,'Trabajos '!$E$4:$H$92,4,0),"") | F19: =IFERROR(INDEX('Trabajos '!$D$4:$D$92,MATCH('Estado de trabajos'!B19,Pedido_N,0)),"") | H19: {=IFERROR(INDEX(Pedido_N,SMALL(IF(estado_trab="No empezado",ROW(estado_trab)-4),ROW(#REF!)),1),"")} | I19: =IFERROR(VLOOKUP(H19,'Trabajos '!$E$4:$H$92,2,0),"") | J19: =IFERROR(VLOOKUP(H19,'Trabajos '!$E$4:$H$92,3,0),"") | K19: =IFERROR(VLOOKUP(H19,'Trabajos '!$E$4:$H$92,4,0),"") | L19: =IFERROR(INDEX('Trabajos '!$D$4:$D$92,MATCH('Estado de trabajos'!H19,Pedido_N,0)),"")
B20: {=IFERROR(INDEX(Pedido_N,SMALL(IF(estado_trab="En Proceso",ROW(estado_trab)-4),ROW(1:1)),1),"")} -> 2 | C20: =IFERROR(VLOOKUP(B20,'Trabajos '!$E$4:$H$92,2,0),"") -> Mantel | D20: =IFERROR(VLOOKUP(B20,'Trabajos '!$E$4:$H$92,3,0),"") -> Rústico | E20: =IFERROR(VLOOKUP(B20,'Trabajos '!$E$4:$H$92,4,0),"") -> 1 | F20: =IFERROR(INDEX('Trabajos '!$D$4:$D$92,MATCH('Estado de trabajos'!B20,Pedido_N,0)),"") -> DiMar | H20: {=IFERROR(INDEX(Pedido_N,SMALL(IF(estado_trab="No empezado",ROW(estado_trab)-4),ROW(1:1)),1),"")} -> 1 | I20: =IFERROR(VLOOKUP(H20,'Trabajos '!$E$4:$H$92,2,0),"") -> Fundas de almohadón | J20: =IFERROR(VLOOKUP(H20,'Trabajos '!$E$4:$H$92,3,0),"") -> Básicos | K20: =IFERROR(VLOOKUP(H20,'Trabajos '!$E$4:$H$92,4,0),"") -> 2 | L20: =IFERROR(INDEX('Trabajos '!$D$4:$D$92,MATCH('Estado de trabajos'!H20,Pedido_N,0)),"") -> DiMar
B21: {=IFERROR(INDEX(Pedido_N,SMALL(IF(estado_trab="En Proceso",ROW(estado_trab)-4),ROW(2:2)),1),"")} | C21: =IFERROR(VLOOKUP(B21,'Trabajos '!$E$4:$H$92,2,0),"") | D21: =IFERROR(VLOOKUP(B21,'Trabajos '!$E$4:$H$92,3,0),"") | E21: =IFERROR(VLOOKUP(B21,'Trabajos '!$E$4:$H$92,4,0),"") | F21: =IFERROR(INDEX('Trabajos '!$D$4:$D$92,MATCH('Estado de trabajos'!B21,Pedido_N,0)),"") | H21: {=IFERROR(INDEX(Pedido_N,SMALL(IF(estado_trab="No empezado",ROW(estado_trab)-4),ROW(2:2)),1),"")} -> 3 | I21: =IFERROR(VLOOKUP(H21,'Trabajos '!$E$4:$H$92,2,0),"") -> Cortinas de Living | J21: =IFERROR(VLOOKUP(H21,'Trabajos '!$E$4:$H$92,3,0),"") -> BlackOut | K21: =IFERROR(VLOOKUP(H21,'Trabajos '!$E$4:$H$92,4,0),"") -> 1 | L21: =IFERROR(INDEX('Trabajos '!$D$4:$D$92,MATCH('Estado de trabajos'!H21,Pedido_N,0)),"") -> Logitel
B22: {=IFERROR(INDEX(Pedido_N,SMALL(IF(estado_trab="En Proceso",ROW(estado_trab)-4),ROW(3:3)),1),"")} | C22: =IFERROR(VLOOKUP(B22,'Trabajos '!$E$4:$H$92,2,0),"") | D22: =IFERROR(VLOOKUP(B22,'Trabajos '!$E$4:$H$92,3,0),"") | E22: =IFERROR(VLOOKUP(B22,'Trabajos '!$E$4:$H$92,4,0),"") | F22: =IFERROR(INDEX('Trabajos '!$D$4:$D$92,MATCH('Estado de trabajos'!B22,Pedido_N,0)),"") | H22: {=IFERROR(INDEX(Pedido_N,SMALL(IF(estado_trab="No empezado",ROW(estado_trab)-4),ROW(3:3)),1),"")} | I22: =IFERROR(VLOOKUP(H22,'Trabajos '!$E$4:$H$92,2,0),"") | J22: =IFERROR(VLOOKUP(H22,'Trabajos '!$E$4:$H$92,3,0),"") | K22: =IFERROR(VLOOKUP(H22,'Trabajos '!$E$4:$H$92,4,0),"") | L22: =IFERROR(INDEX('Trabajos '!$D$4:$D$92,MATCH('Estado de trabajos'!H22,Pedido_N,0)),"")
B23: {=IFERROR(INDEX(Pedido_N,SMALL(IF(estado_trab="En Proceso",ROW(estado_trab)-4),ROW(4:4)),1),"")} | C23: =IFERROR(VLOOKUP(B23,'Trabajos '!$E$4:$H$92,2,0),"") | D23: =IFERROR(VLOOKUP(B23,'Trabajos '!$E$4:$H$92,3,0),"") | E23: =IFERROR(VLOOKUP(B23,'Trabajos '!$E$4:$H$92,4,0),"") | F23: =IFERROR(INDEX('Trabajos '!$D$4:$D$92,MATCH('Estado de trabajos'!B23,Pedido_N,0)),"") | H23: {=IFERROR(INDEX(Pedido_N,SMALL(IF(estado_trab="No empezado",ROW(estado_trab)-4),ROW(4:4)),1),"")} | I23: =IFERROR(VLOOKUP(H23,'Trabajos '!$E$4:$H$92,2,0),"") | J23: =IFERROR(VLOOKUP(H23,'Trabajos '!$E$4:$H$92,3,0),"") | K23: =IFERROR(VLOOKUP(H23,'Trabajos '!$E$4:$H$92,4,0),"") | L23: =IFERROR(INDEX('Trabajos '!$D$4:$D$92,MATCH('Estado de trabajos'!H23,Pedido_N,0)),"")
B24: {=IFERROR(INDEX(Pedido_N,SMALL(IF(estado_trab="En Proceso",ROW(estado_trab)-4),ROW(5:5)),1),"")} | C24: =IFERROR(VLOOKUP(B24,'Trabajos '!$E$4:$H$92,2,0),"") | D24: =IFERROR(VLOOKUP(B24,'Trabajos '!$E$4:$H$92,3,0),"") | E24: =IFERROR(VLOOKUP(B24,'Trabajos '!$E$4:$H$92,4,0),"") | F24: =IFERROR(INDEX('Trabajos '!$D$4:$D$92,MATCH('Estado de trabajos'!B24,Pedido_N,0)),"") | H24: {=IFERROR(INDEX(Pedido_N,SMALL(IF(estado_trab="No empezado",ROW(estado_trab)-4),ROW(5:5)),1),"")} | I24: =IFERROR(VLOOKUP(H24,'Trabajos '!$E$4:$H$92,2,0),"") | J24: =IFERROR(VLOOKUP(H24,'Trabajos '!$E$4:$H$92,3,0),"") | K24: =IFERROR(VLOOKUP(H24,'Trabajos '!$E$4:$H$92,4,0),"") | L24: =IFERROR(INDEX('Trabajos '!$D$4:$D$92,MATCH('Estado de trabajos'!H24,Pedido_N,0)),"")
B25: {=IFERROR(INDEX(Pedido_N,SMALL(IF(estado_trab="En Proceso",ROW(estado_trab)-4),ROW(6:6)),1),"")} | C25: =IFERROR(VLOOKUP(B25,'Trabajos '!$E$4:$H$92,2,0),"") | D25: =IFERROR(VLOOKUP(B25,'Trabajos '!$E$4:$H$92,3,0),"") | E25: =IFERROR(VLOOKUP(B25,'Trabajos '!$E$4:$H$92,4,0),"") | F25: =IFERROR(INDEX('Trabajos '!$D$4:$D$92,MATCH('Estado de trabajos'!B25,Pedido_N,0)),"") | H25: {=IFERROR(INDEX(Pedido_N,SMALL(IF(estado_trab="No empezado",ROW(estado_trab)-4),ROW(6:6)),1),"")} | I25: =IFERROR(VLOOKUP(H25,'Trabajos '!$E$4:$H$92,2,0),"") | J25: =IFERROR(VLOOKUP(H25,'Trabajos '!$E$4:$H$92,3,0),"") | K25: =IFERROR(VLOOKUP(H25,'Trabajos '!$E$4:$H$92,4,0),"") | L25: =IFERROR(INDEX('Trabajos '!$D$4:$D$92,MATCH('Estado de trabajos'!H25,Pedido_N,0)),"")
B26: {=IFERROR(INDEX(Pedido_N,SMALL(IF(estado_trab="En Proceso",ROW(estado_trab)-4),ROW(7:7)),1),"")} | C26: =IFERROR(VLOOKUP(B26,'Trabajos '!$E$4:$H$92,2,0),"") | D26: =IFERROR(VLOOKUP(B26,'Trabajos '!$E$4:$H$92,3,0),"") | E26: =IFERROR(VLOOKUP(B26,'Trabajos '!$E$4:$H$92,4,0),"") | F26: =IFERROR(INDEX('Trabajos '!$D$4:$D$92,MATCH('Estado de trabajos'!B26,Pedido_N,0)),"") | H26: {=IFERROR(INDEX(Pedido_N,SMALL(IF(estado_trab="No empezado",ROW(estado_trab)-4),ROW(7:7)),1),"")} | I26: =IFERROR(VLOOKUP(H26,'Trabajos '!$E$4:$H$92,2,0),"") | J26: =IFERROR(VLOOKUP(H26,'Trabajos '!$E$4:$H$92,3,0),"") | K26: =IFERROR(VLOOKUP(H26,'Trabajos '!$E$4:$H$92,4,0),"") | L26: =IFERROR(INDEX('Trabajos '!$D$4:$D$92,MATCH('Estado de trabajos'!H26,Pedido_N,0)),"")
B27: {=IFERROR(INDEX(Pedido_N,SMALL(IF(estado_trab="En Proceso",ROW(estado_trab)-4),ROW(8:8)),1),"")} | C27: =IFERROR(VLOOKUP(B27,'Trabajos '!$E$4:$H$92,2,0),"") | D27: =IFERROR(VLOOKUP(B27,'Trabajos '!$E$4:$H$92,3,0),"") | E27: =IFERROR(VLOOKUP(B27,'Trabajos '!$E$4:$H$92,4,0),"") | F27: =IFERROR(INDEX('Trabajos '!$D$4:$D$92,MATCH('Estado de trabajos'!B27,Pedido_N,0)),"") | H27: {=IFERROR(INDEX(Pedido_N,SMALL(IF(estado_trab="No empezado",ROW(estado_trab)-4),ROW(8:8)),1),"")} | I27: =IFERROR(VLOOKUP(H27,'Trabajos '!$E$4:$H$92,2,0),"") | J27: =IFERROR(VLOOKUP(H27,'Trabajos '!$E$4:$H$92,3,0),"") | K27: =IFERROR(VLOOKUP(H27,'Trabajos '!$E$4:$H$92,4,0),"") | L27: =IFERROR(INDEX('Trabajos '!$D$4:$D$92,MATCH('Estado de trabajos'!H27,Pedido_N,0)),"")
B28: {=IFERROR(INDEX(Pedido_N,SMALL(IF(estado_trab="En Proceso",ROW(estado_trab)-4),ROW(9:9)),1),"")} | C28: =IFERROR(VLOOKUP(B28,'Trabajos '!$E$4:$H$92,2,0),"") | D28: =IFERROR(VLOOKUP(B28,'Trabajos '!$E$4:$H$92,3,0),"") | E28: =IFERROR(VLOOKUP(B28,'Trabajos '!$E$4:$H$92,4,0),"") | F28: =IFERROR(INDEX('Trabajos '!$D$4:$D$92,MATCH('Estado de trabajos'!B28,Pedido_N,0)),"") | H28: {=IFERROR(INDEX(Pedido_N,SMALL(IF(estado_trab="No empezado",ROW(estado_trab)-4),ROW(9:9)),1),"")} | I28: =IFERROR(VLOOKUP(H28,'Trabajos '!$E$4:$H$92,2,0),"") | J28: =IFERROR(VLOOKUP(H28,'Trabajos '!$E$4:$H$92,3,0),"") | K28: =IFERROR(VLOOKUP(H28,'Trabajos '!$E$4:$H$92,4,0),"") | L28: =IFERROR(INDEX('Trabajos '!$D$4:$D$92,MATCH('Estado de trabajos'!H28,Pedido_N,0)),"")
B29: {=IFERROR(INDEX(Pedido_N,SMALL(IF(estado_trab="En Proceso",ROW(estado_trab)-4),ROW(10:10)),1),"")} | C29: =IFERROR(VLOOKUP(B29,'Trabajos '!$E$4:$H$92,2,0),"") | D29: =IFERROR(VLOOKUP(B29,'Trabajos '!$E$4:$H$92,3,0),"") | E29: =IFERROR(VLOOKUP(B29,'Trabajos '!$E$4:$H$92,4,0),"") | F29: =IFERROR(INDEX('Trabajos '!$D$4:$D$92,MATCH('Estado de trabajos'!B29,Pedido_N,0)),"") | H29: {=IFERROR(INDEX(Pedido_N,SMALL(IF(estado_trab="No empezado",ROW(estado_trab)-4),ROW(10:10)),1),"")} | I29: =IFERROR(VLOOKUP(H29,'Trabajos '!$E$4:$H$92,2,0),"") | J29: =IFERROR(VLOOKUP(H29,'Trabajos '!$E$4:$H$92,3,0),"") | K29: =IFERROR(VLOOKUP(H29,'Trabajos '!$E$4:$H$92,4,0),"") | L29: =IFERROR(INDEX('Trabajos '!$D$4:$D$92,MATCH('Estado de trabajos'!H29,Pedido_N,0)),"")
B30: {=IFERROR(INDEX(Pedido_N,SMALL(IF(estado_trab="En Proceso",ROW(estado_trab)-4),ROW(11:11)),1),"")} | C30: =IFERROR(VLOOKUP(B30,'Trabajos '!$E$4:$H$92,2,0),"") | D30: =IFERROR(VLOOKUP(B30,'Trabajos '!$E$4:$H$92,3,0),"") | E30: =IFERROR(VLOOKUP(B30,'Trabajos '!$E$4:$H$92,4,0),"") | F30: =IFERROR(INDEX('Trabajos '!$D$4:$D$92,MATCH('Estado de trabajos'!B30,Pedido_N,0)),"") | H30: {=IFERROR(INDEX(Pedido_N,SMALL(IF(estado_trab="No empezado",ROW(estado_trab)-4),ROW(11:11)),1),"")} | I30: =IFERROR(VLOOKUP(H30,'Trabajos '!$E$4:$H$92,2,0),"") | J30: =IFERROR(VLOOKUP(H30,'Trabajos '!$E$4:$H$92,3,0),"") | K30: =IFERROR(VLOOKUP(H30,'Trabajos '!$E$4:$H$92,4,0),"") | L30: =IFERROR(INDEX('Trabajos '!$D$4:$D$92,MATCH('Estado de trabajos'!H30,Pedido_N,0)),"")
B31: {=IFERROR(INDEX(Pedido_N,SMALL(IF(estado_trab="En Proceso",ROW(estado_trab)-4),ROW(12:12)),1),"")} | C31: =IFERROR(VLOOKUP(B31,'Trabajos '!$E$4:$H$92,2,0),"") | D31: =IFERROR(VLOOKUP(B31,'Trabajos '!$E$4:$H$92,3,0),"") | E31: =IFERROR(VLOOKUP(B31,'Trabajos '!$E$4:$H$92,4,0),"") | F31: =IFERROR(INDEX('Trabajos '!$D$4:$D$92,MATCH('Estado de trabajos'!B31,Pedido_N,0)),"") | H31: {=IFERROR(INDEX(Pedido_N,SMALL(IF(estado_trab="No empezado",ROW(estado_trab)-4),ROW(12:12)),1),"")} | I31: =IFERROR(VLOOKUP(H31,'Trabajos '!$E$4:$H$92,2,0),"") | J31: =IFERROR(VLOOKUP(H31,'Trabajos '!$E$4:$H$92,3,0),"") | K31: =IFERROR(VLOOKUP(H31,'Trabajos '!$E$4:$H$92,4,0),"") | L31: =IFERROR(INDEX('Trabajos '!$D$4:$D$92,MATCH('Estado de trabajos'!H31,Pedido_N,0)),"")
B32: {=IFERROR(INDEX(Pedido_N,SMALL(IF(estado_trab="En Proceso",ROW(estado_trab)-4),ROW(13:13)),1),"")} | C32: =IFERROR(VLOOKUP(B32,'Trabajos '!$E$4:$H$92,2,0),"") | D32: =IFERROR(VLOOKUP(B32,'Trabajos '!$E$4:$H$92,3,0),"") | E32: =IFERROR(VLOOKUP(B32,'Trabajos '!$E$4:$H$92,4,0),"") | F32: =IFERROR(INDEX('Trabajos '!$D$4:$D$92,MATCH('Estado de trabajos'!B32,Pedido_N,0)),"") | H32: {=IFERROR(INDEX(Pedido_N,SMALL(IF(estado_trab="No empezado",ROW(estado_trab)-4),ROW(13:13)),1),"")} | I32: =IFERROR(VLOOKUP(H32,'Trabajos '!$E$4:$H$92,2,0),"") | J32: =IFERROR(VLOOKUP(H32,'Trabajos '!$E$4:$H$92,3,0),"") | K32: =IFERROR(VLOOKUP(H32,'Trabajos '!$E$4:$H$92,4,0),"") | L32: =IFERROR(INDEX('Trabajos '!$D$4:$D$92,MATCH('Estado de trabajos'!H32,Pedido_N,0)),"")
B33: {=IFERROR(INDEX(Pedido_N,SMALL(IF(estado_trab="En Proceso",ROW(estado_trab)-4),ROW(14:14)),1),"")} | C33: =IFERROR(VLOOKUP(B33,'Trabajos '!$E$4:$H$92,2,0),"") | D33: =IFERROR(VLOOKUP(B33,'Trabajos '!$E$4:$H$92,3,0),"") | E33: =IFERROR(VLOOKUP(B33,'Trabajos '!$E$4:$H$92,4,0),"") | F33: =IFERROR(INDEX('Trabajos '!$D$4:$D$92,MATCH('Estado de trabajos'!B33,Pedido_N,0)),"") | H33: {=IFERROR(INDEX(Pedido_N,SMALL(IF(estado_trab="No empezado",ROW(estado_trab)-4),ROW(14:14)),1),"")} | I33: =IFERROR(VLOOKUP(H33,'Trabajos '!$E$4:$H$92,2,0),"") | J33: =IFERROR(VLOOKUP(H33,'Trabajos '!$E$4:$H$92,3,0),"") | K33: =IFERROR(VLOOKUP(H33,'Trabajos '!$E$4:$H$92,4,0),"") | L33: =IFERROR(INDEX('Trabajos '!$D$4:$D$92,MATCH('Estado de trabajos'!H33,Pedido_N,0)),"")
B34: {=IFERROR(INDEX(Pedido_N,SMALL(IF(estado_trab="En Proceso",ROW(estado_trab)-4),ROW(15:15)),1),"")} | C34: =IFERROR(VLOOKUP(B34,'Trabajos '!$E$4:$H$92,2,0),"") | D34: =IFERROR(VLOOKUP(B34,'Trabajos '!$E$4:$H$92,3,0),"") | E34: =IFERROR(VLOOKUP(B34,'Trabajos '!$E$4:$H$92,4,0),"") | F34: =IFERROR(INDEX('Trabajos '!$D$4:$D$92,MATCH('Estado de trabajos'!B34,Pedido_N,0)),"") | H34: {=IFERROR(INDEX(Pedido_N,SMALL(IF(estado_trab="No empezado",ROW(estado_trab)-4),ROW(15:15)),1),"")} | I34: =IFERROR(VLOOKUP(H34,'Trabajos '!$E$4:$H$92,2,0),"") | J34: =IFERROR(VLOOKUP(H34,'Trabajos '!$E$4:$H$92,3,0),"") | K34: =IFERROR(VLOOKUP(H34,'Trabajos '!$E$4:$H$92,4,0),"") | L34: =IFERROR(INDEX('Trabajos '!$D$4:$D$92,MATCH('Estado de trabajos'!H34,Pedido_N,0)),"")

Sheet Estado de cobranzas
B3: Cliente | C3: (Todas)
B5: Pedido Nº | C5: Factura Nº | D5: Total Facturado_ | E5: Saldo pendiente
B6: 1 | C6: A101 | D6: 600 | E6: 600
B7: 2 | C7: A102 | D7: 250 | E7: 50
B8: 3 | C8: A103 | D8: 1500 | E8: 0
B9: 4 | C9: A104 | D9: 100 | E9: 100
B10: 5 | C10: A105 | D10: 200 | E10: 200
B11: (en blanco) | C11: (en blanco) | E11: 0
B12: Total general | D12: 2650 | E12: 950
